BEGIN:VCALENDAR
VERSION:2.0
PRODID:-//Exultéo - ECPv5.10.0//NONSGML v1.0//EN
CALSCALE:GREGORIAN
METHOD:PUBLISH
X-WR-CALNAME:Exultéo
X-ORIGINAL-URL:https://exulteo.fr
X-WR-CALDESC:évènements pour Exultéo
BEGIN:VTIMEZONE
TZID:Europe/Paris
BEGIN:DAYLIGHT
TZOFFSETFROM:+0100
TZOFFSETTO:+0200
TZNAME:CEST
DTSTART:20190331T010000
END:DAYLIGHT
BEGIN:STANDARD
TZOFFSETFROM:+0200
TZOFFSETTO:+0100
TZNAME:CET
DTSTART:20191027T010000
END:STANDARD
END:VTIMEZONE
BEGIN:VEVENT
DTSTART;TZID=Europe/Paris:20190511T203000
DTEND;TZID=Europe/Paris:20190511T223000
DTSTAMP:20260426T031210
CREATED:20180705T201024Z
LAST-MODIFIED:20190412T191410Z
UID:347-1557606600-1557613800@exulteo.fr
SUMMARY:Concert de louange à Ermont
DESCRIPTION:Nous vous donnons RDV le samedi 11 mai à Ermont (église St Flaive) pour un nouveau concert de louange !
URL:https://exulteo.fr/event/soiree-de-louange-5/
LOCATION:Ermont\, Ermont\, 95120\, France
END:VEVENT
END:VCALENDAR